BEGIN:VCALENDAR
VERSION:2.0
PRODID:-//Fashion Revolution Brasil - ECPv6.15.16.1//NONSGML v1.0//EN
CALSCALE:GREGORIAN
METHOD:PUBLISH
X-WR-CALNAME:Fashion Revolution Brasil
X-ORIGINAL-URL:https://fashionrevolutionbrasil.org
X-WR-CALDESC:Eventos para Fashion Revolution Brasil
REFRESH-INTERVAL;VALUE=DURATION:PT1H
X-Robots-Tag:noindex
X-PUBLISHED-TTL:PT1H
BEGIN:VTIMEZONE
TZID:America/Sao_Paulo
BEGIN:STANDARD
TZOFFSETFROM:-0300
TZOFFSETTO:-0300
TZNAME:-03
DTSTART:20230101T000000
END:STANDARD
END:VTIMEZONE
BEGIN:VEVENT
DTSTART;TZID=America/Sao_Paulo:20240428T200000
DTEND;TZID=America/Sao_Paulo:20260428T220000
DTSTAMP:20260422T165041
CREATED:20260417T190452Z
LAST-MODIFIED:20260417T190453Z
UID:17740-1714334400-1777413600@fashionrevolutionbrasil.org
SUMMARY:Oficina de Reciclagem de Sacolas Plásticas
DESCRIPTION:Oficina de Reciclagem de Sacolas Plásticas – Precisa levar ferro de passar e sacolas plásticas
URL:https://fashionrevolutionbrasil.org/evento/oficina-de-reciclagem-de-sacolas-plasticas/
LOCATION:Centro Cultural Bagozzi\, Rua Calixto Razolini\, 78 - Portão\, Curitiba - PR\, Curitiba\, Paraná\, 81070-060\, Brazil
CATEGORIES:Convidados com perfil étnico-racial diverso,Convidados LGBTQIAPN+,Temática LGBTQIAPN+
ORGANIZER;CN="Centro Cultural Bagozzi":MAILTO:henrique.chameleon@gmail.com
END:VEVENT
BEGIN:VEVENT
DTSTART;TZID=America/Sao_Paulo:20260401T080000
DTEND;TZID=America/Sao_Paulo:20260418T220000
DTSTAMP:20260422T165041
CREATED:20260406T130043Z
LAST-MODIFIED:20260406T130044Z
UID:16173-1775030400-1776549600@fashionrevolutionbrasil.org
SUMMARY:Revoluçao da moda na escola
DESCRIPTION:video bate papo interativo caminhando pela escola interagindo com os alunos\,fazendo perguntas sobre moda e consumo.exemplos de perguntas:\nVoce sabe quem fez suas roupas?\nVoce acredita que a moda pode ser mais sustentavel?\nVoce ja parou pra pensar de onde vem suas roupas?\nVoce ja comprou roupa em brecho?\nQual a peça mais antiga do seu guarda roupa?\nVoce costuma repetir roupas?\nQuais praticas voce adotaria pra uma moda mais sustentavel?
URL:https://fashionrevolutionbrasil.org/evento/revolucao-da-moda-na-escola/
LOCATION:Fran Maceno\, Rua Episcopal\, 700\,centro\,SÃO CARLOS \,SÃO PAULO\, São Carlos\, São Paulo\, 13560570\, Brazil
CATEGORIES:Convidados com perfil étnico-racial diverso,Convidados LGBTQIAPN+,Convidados portadores de alguma deficiência,Essa ação não conta com diversidade de gênero ou étnico-racial,Temática anti-racista,Temática LGBTQIAPN+,Temática sobre acessibilidade
ORGANIZER;CN="Senac":MAILTO:francielemaceno26@gmail.com
END:VEVENT
BEGIN:VEVENT
DTSTART;TZID=America/Sao_Paulo:20260414T111000
DTEND;TZID=America/Sao_Paulo:20260421T120000
DTSTAMP:20260422T165041
CREATED:20260330T194408Z
LAST-MODIFIED:20260330T194408Z
UID:16114-1776165000-1776772800@fashionrevolutionbrasil.org
SUMMARY:Bazar estudantil
DESCRIPTION:É necessário levar uma peça em BOM estado\, sem rasgos ou danos para ser realizada a troca. O evento vai acontecer na escola Amilcare Mattei e só irá ser permitido a troca caso seja feita a “doação” de uma peça antes. Iremos estar organizando no laboratório de física\, a entrada será pela secretaria da escola.
URL:https://fashionrevolutionbrasil.org/evento/bazar-estudantil/
LOCATION:Laboratório de física\, Av. Brg. Eduardo Gomes\, 265 - Jardim Maria Izabel\, Marília - SP\, Marília\, São Paulo\, 17515-430\, Brazil
CATEGORIES:Convidados com perfil étnico-racial diverso,Convidados LGBTQIAPN+,Convidados portadores de alguma deficiência,Temática sobre acessibilidade
ORGANIZER;CN="Isadora Cardoso":MAILTO:isadoramagalhaescardoso10@gmail.com
END:VEVENT
BEGIN:VEVENT
DTSTART;TZID=America/Sao_Paulo:20260415T080000
DTEND;TZID=America/Sao_Paulo:20260418T220000
DTSTAMP:20260422T165041
CREATED:20260406T130050Z
LAST-MODIFIED:20260421T213309Z
UID:16176-1776240000-1776549600@fashionrevolutionbrasil.org
SUMMARY:Revolucao da Moda na Escola
DESCRIPTION:Lambe Lambe e Mural “MINHA VOZ PELA MODA”\nCriaçao de muralestilo moodboard coletivo\,onde os alunos poderao colar imagens\,frases e materiais relacionados a moda consciente.\nMateriais possiveis:recortes de revistas \,pedaços de tecidos\,etiquetas de roupas\,desenhos\,frases sobre consumo consciente
URL:https://fashionrevolutionbrasil.org/evento/revolucao-da-moda-na-escola-2/
LOCATION:São Carlos
CATEGORIES:Convidados com perfil étnico-racial diverso,Convidados LGBTQIAPN+,Convidados portadores de alguma deficiência,Essa ação não conta com diversidade de gênero ou étnico-racial,Temática anti-racista,Temática LGBTQIAPN+,Temática sobre acessibilidade
ORGANIZER;CN="FRANCIELE MACENO":MAILTO:francielemaceno26@gmail.com
END:VEVENT
BEGIN:VEVENT
DTSTART;TZID=America/Sao_Paulo:20260415T080000
DTEND;TZID=America/Sao_Paulo:20260428T220000
DTSTAMP:20260422T165041
CREATED:20260406T130056Z
LAST-MODIFIED:20260406T130056Z
UID:16178-1776240000-1777413600@fashionrevolutionbrasil.org
SUMMARY:REVOLUÇÃO DA MODA NA ESCOLA
DESCRIPTION:EXPOSICAO DE ARTESANATO:Espaço dedicado ao trabalho artesanal e a produçao manual.\nA ideia é mostrar que  a moda tambem pode ser produzida com cuidado\,tempo e tecnicas manuais\,com objetivo de conectar moda sustentavel com cultura\,criatividade e valorizaçao do trabalho manual
URL:https://fashionrevolutionbrasil.org/evento/revolucao-da-moda-na-escola-3/
LOCATION:Senac\, Rua Santa Cruz 1148\, Piracicaba\, São Paulo\, 13419030\, Brazil
CATEGORIES:Convidados com perfil étnico-racial diverso,Convidados LGBTQIAPN+,Convidados portadores de alguma deficiência,Essa ação não conta com diversidade de gênero ou étnico-racial,Temática anti-racista,Temática LGBTQIAPN+,Temática sobre acessibilidade
ORGANIZER;CN="FRANCIELE MACENO":MAILTO:francielemaceno26@gmail.com
END:VEVENT
BEGIN:VEVENT
DTSTART;TZID=America/Sao_Paulo:20260416T080000
DTEND;TZID=America/Sao_Paulo:20260422T120000
DTSTAMP:20260422T165041
CREATED:20260415T190331Z
LAST-MODIFIED:20260415T190331Z
UID:17203-1776326400-1776859200@fashionrevolutionbrasil.org
SUMMARY:Pintura Mural: Estudo dos impactos dos resíduos na indústria com ênfase no desenvolvimento de práticas sustentáveis.
DESCRIPTION:Realização de pintura mural para divulgação do evento\, integrando práticas de artes visuais a experiências no ensino de química orgânica\, com destaque para a importância da química verde e da sustentabilidade na indústria.
URL:https://fashionrevolutionbrasil.org/evento/pintura-mural-estudo-dos-impactos-dos-residuos-na-industria-com-enfase-no-desenvolvimento-de-praticas-sustentaveis/
LOCATION:IFMA – Campus Centro Histórico\, Rua Afonso Pena (antiga Rua Formosa)\, 174\, Centro Histórico\, São Luís/MA\, São Luís\, Maranhão\, 65010030\, Brazil
CATEGORIES:Convidados com perfil étnico-racial diverso,Convidados LGBTQIAPN+,Convidados portadores de alguma deficiência
ORGANIZER;CN="Prof. Mineia e alunos do 3%C2%BAano de artes visuais IFMACCH":MAILTO:nayarachaves@ifma.edu.br
END:VEVENT
BEGIN:VEVENT
DTSTART;TZID=America/Sao_Paulo:20260418T100000
DTEND;TZID=America/Sao_Paulo:20260418T140000
DTSTAMP:20260422T165041
CREATED:20260422T150332Z
LAST-MODIFIED:20260422T150333Z
UID:18139-1776506400-1776520800@fashionrevolutionbrasil.org
SUMMARY:Entrevistas: E para você\, o que é moda?"
DESCRIPTION:Narrativas de Identidade: O que é moda para você?\nNo dia 18/04\, durante a Bienal do Livro de Salvador\, Bahia\, foram realizadas 24 entrevistas com um público diversificado em idade e gênero sob a temática: “E para você\, o que é moda?”. \nO objetivo central foi coletar relatos de diferentes gerações para entender a relação íntima e as conexões que as pessoas estabelecem com o vestir. A partir dessas vozes\, estamos construindo um site. O site refletirá as percepções coletadas e demonstrando que a moda é\, acima de tudo\, uma forma fundamental de existir\, se relacionar e se comunicar com o mundo.
URL:https://fashionrevolutionbrasil.org/evento/entrevistas-e-para-voce-o-que-e-moda/
LOCATION:Centro de Convenções de Salvador\, Avenida Octávio Mangabeira\, 5.490\, no bairro da Boca do Rio\, Lauro de Freitas\, Bahia\, 41706-690\, Brazil
CATEGORIES:Convidados com perfil étnico-racial diverso,Convidados LGBTQIAPN+,Convidados portadores de alguma deficiência
ORGANIZER;CN="Margarete Virg%C3%ADnia das Virgens Barbosa":MAILTO:meghanvibell@gmail.com
END:VEVENT
BEGIN:VEVENT
DTSTART;TZID=America/Sao_Paulo:20260418T160000
DTEND;TZID=America/Sao_Paulo:20260418T210000
DTSTAMP:20260422T165041
CREATED:20260406T130115Z
LAST-MODIFIED:20260406T130115Z
UID:16188-1776528000-1776546000@fashionrevolutionbrasil.org
SUMMARY:Fashion Revolution Parintins 2026 – Quem faz a moda na Amazônia? - Exposição “Retalhos da Cultura”
DESCRIPTION:A ação consiste na exposição “Retalhos da Cultura”\, que apresenta peças autorais desenvolvidas a partir do reaproveitamento de resíduos têxteis do contexto do Festival de Parintins\, evidenciando práticas de upcycling\, sustentabilidade e inovação no fazer artesanal amazônico. Cada peça será acompanhada de informações sobre materiais\, processos e autoria\, promovendo transparência na cadeia produtiva da moda e estimulando a reflexão sobre consumo consciente. A exposição convida o público a compreender o valor simbólico\, cultural e ambiental dos materiais\, reforçando a pergunta central do movimento: “Quem fez minhas roupas?”. A atividade será mediada por Regiane Lima\, artesã\, bióloga e representante do Fashion Revolution em Parintins\, com participação de artesãs e integrantes do Coletivo Mãos Criadoras e tabe do projeto Retalhos da cultura\, dos quais também é participante.
URL:https://fashionrevolutionbrasil.org/evento/fashion-revolution-parintins-2026-quem-faz-a-moda-na-amazonia-exposicao-retalhos-da-cultura/
LOCATION:Kwati Club\, Endereço: Av. Paulo Teixeira\, 512–672 Bairro: Santa Rita de Cássia Cidade: Parintins – AM\, Brasil Referência: às margens do Lago Macurany\, Parintins\, Amazonas\, 69153250\, Brazil
CATEGORIES:Convidados com perfil étnico-racial diverso,Convidados LGBTQIAPN+,Convidados portadores de alguma deficiência,Temática LGBTQIAPN+
ORGANIZER;CN="Regiane Lima":MAILTO:lima.regiane87@gmail.com
END:VEVENT
BEGIN:VEVENT
DTSTART;TZID=America/Sao_Paulo:20260418T160000
DTEND;TZID=America/Sao_Paulo:20260418T210000
DTSTAMP:20260422T165041
CREATED:20260406T130123Z
LAST-MODIFIED:20260406T130124Z
UID:16190-1776528000-1776546000@fashionrevolutionbrasil.org
SUMMARY:Painel coletivo “Mãos que fazem a moda existir”
DESCRIPTION:O painel coletivo “Mãos que fazem a moda existir” é uma instalação participativa que convida artesãos e visitantes a registrarem suas mãos em um suporte visual coletivo\, simbolizando as pessoas invisibilizadas na cadeia produtiva da moda. A ação promove engajamento direto do público e reforça o protagonismo de quem produz\, conectando corpo\, território e trabalho. Ao final\, o painel se consolida como um manifesto visual sobre autoria\, identidade e valorização do fazer manual na Amazônia. A atividade será conduzida por Regiane Lima\, com apoio das artesãs do Coletivo Mãos Criadoras de Parintins\, estimulando diálogo e reflexão coletiva sobre trabalho digno e reconhecimento.
URL:https://fashionrevolutionbrasil.org/evento/painel-coletivo-maos-que-fazem-a-moda-existir/
LOCATION:Kwati Club\, Endereço: Av. Paulo Teixeira\, 512–672 Bairro: Santa Rita de Cássia Cidade: Parintins – AM\, Brasil Referência: às margens do Lago Macurany\, Parintins\, Amazonas\, 69153250\, Brazil
CATEGORIES:Convidados com perfil étnico-racial diverso,Convidados LGBTQIAPN+,Convidados portadores de alguma deficiência,Temática anti-racista,Temática LGBTQIAPN+
ORGANIZER;CN="Regiane Lima":MAILTO:lima.regiane87@gmail.com
END:VEVENT
BEGIN:VEVENT
DTSTART;TZID=America/Sao_Paulo:20260418T190000
DTEND;TZID=America/Sao_Paulo:20260418T200000
DTSTAMP:20260422T165041
CREATED:20260406T130129Z
LAST-MODIFIED:20260406T130130Z
UID:16192-1776538800-1776542400@fashionrevolutionbrasil.org
SUMMARY:Desfile-manifesto “Quem fez minhas roupas?”
DESCRIPTION:O desfile-manifesto “Quem fez minhas roupas?” é uma apresentação performática que propõe uma reflexão crítica sobre a cadeia produtiva da moda\, destacando o fazer artesanal amazônico como expressão de identidade\, território e resistência cultural. As peças apresentadas\, oriundas do projeto Retalhos da Cultura\, evidenciam processos sustentáveis\, reaproveitamento de materiais e autoria local. Diferente de um desfile comercial\, a ação assume caráter educativo e político\, utilizando o corpo como suporte narrativo para provocar o público sobre consumo\, origem das peças e valorização de quem produz. A condução será realizada por Regiane Lima\, com participação de artesãos e colaboradores locais enquanto performers expondo e desfilando suas próprias criações.
URL:https://fashionrevolutionbrasil.org/evento/desfile-manifesto-quem-fez-minhas-roupas/
LOCATION:Kwati Club\, Endereço: Av. Paulo Teixeira\, 512–672 Bairro: Santa Rita de Cássia Cidade: Parintins – AM\, Brasil Referência: às margens do Lago Macurany\, Parintins\, Amazonas\, 69153250\, Brazil
CATEGORIES:Convidados com perfil étnico-racial diverso,Convidados LGBTQIAPN+,Convidados portadores de alguma deficiência,Temática anti-racista,Temática LGBTQIAPN+,Temática sobre acessibilidade
ORGANIZER;CN="Regiane Lima":MAILTO:lima.regiane87@gmail.com
END:VEVENT
END:VCALENDAR