BEGIN:VCALENDAR
VERSION:2.0
PRODID:-//Fashion Revolution Brasil - ECPv6.15.16.1//NONSGML v1.0//EN
CALSCALE:GREGORIAN
METHOD:PUBLISH
X-WR-CALNAME:Fashion Revolution Brasil
X-ORIGINAL-URL:https://fashionrevolutionbrasil.org
X-WR-CALDESC:Eventos para Fashion Revolution Brasil
REFRESH-INTERVAL;VALUE=DURATION:PT1H
X-Robots-Tag:noindex
X-PUBLISHED-TTL:PT1H
BEGIN:VTIMEZONE
TZID:America/Sao_Paulo
BEGIN:STANDARD
TZOFFSETFROM:-0300
TZOFFSETTO:-0300
TZNAME:-03
DTSTART:20250101T000000
END:STANDARD
END:VTIMEZONE
BEGIN:VEVENT
DTSTART;TZID=America/Sao_Paulo:20260422T080000
DTEND;TZID=America/Sao_Paulo:20260429T223000
DTSTAMP:20260422T164918
CREATED:20260416T170304Z
LAST-MODIFIED:20260416T170305Z
UID:17425-1776844800-1777501800@fashionrevolutionbrasil.org
SUMMARY:Onde estão as(os) artistas da sua cidade?
DESCRIPTION:Exposição de imagens de artistas locais contendo uma breve descrição sobre seus trabalhos e seus contatos. O objetivo da ação é manter um espaço vivo durante a Semana Fashion Revolution para que os visitantes complementem com novos contatos para fortalecer ainda mais o ecossistema da moda na cidade de Sorocaba.
URL:https://fashionrevolutionbrasil.org/evento/onde-estao-asos-artistas-da-sua-cidade/
LOCATION:Senac Sorocaba\, Rua Coronel Nogueira Padilha\, 2.392\, Vila Hortência\, Sorocaba\, São Paulo.\, Sorocaba\, São Paulo\, 18020605\, Brazil
CATEGORIES:Convidados com perfil étnico-racial diverso,Convidados LGBTQIAPN+,Convidados portadores de alguma deficiência
ORGANIZER;CN="Senac Sorocaba":MAILTO:natalie.mprado@sp.senac.br
END:VEVENT
BEGIN:VEVENT
DTSTART;TZID=America/Sao_Paulo:20260424T190000
DTEND;TZID=America/Sao_Paulo:20260524T223000
DTSTAMP:20260422T164918
CREATED:20260417T190332Z
LAST-MODIFIED:20260417T190333Z
UID:17708-1777057200-1779661800@fashionrevolutionbrasil.org
SUMMARY:Cine Debate: O Ponto Firme
DESCRIPTION:O documentário acompanha o projeto Ponto Firme\, que leva o crochê para dentro do sistema prisional\, promovendo capacitação profissional\, geração de renda e transformação social para pessoas privadas de liberdade. A iniciativa evidencia como a moda pode ser ferramenta de inclusão\, dignidade e reintegração\, ao mesmo tempo em que questiona estigmas sociais. \nApós a exibição\, será realizado um debate sobre moda como agente de transformação social.
URL:https://fashionrevolutionbrasil.org/evento/cine-debate-o-ponto-firme-2/
LOCATION:SENAC MARÍLIA\, Rua Paraíba\, 125\, Marília\, São Paulo\, 17509-060\, Brazil
CATEGORIES:Convidados com perfil étnico-racial diverso,Convidados LGBTQIAPN+,Convidados portadores de alguma deficiência
ORGANIZER;CN="Ana Carolina Lopes Cortez":MAILTO:ana.ccortez@sp.senac.br
END:VEVENT
BEGIN:VEVENT
DTSTART;TZID=America/Sao_Paulo:20260427T120000
DTEND;TZID=America/Sao_Paulo:20260630T120000
DTSTAMP:20260422T164918
CREATED:20260415T190239Z
LAST-MODIFIED:20260415T190240Z
UID:17177-1777291200-1782820800@fashionrevolutionbrasil.org
SUMMARY:Atividades Interativas Fashion Revolution
DESCRIPTION:As Atividades Interativas do projeto Fashion Revolution 2026 consistem em uma intervenção lúdica e educativa espalhada pelos andares da faculdade. Com o objetivo de conscientizar estudantes e colaboradores sobre o consumo responsável\, a ação utiliza cavaletes para apresentar dinâmicas como o Mapa de Fabricação de Roupas\, Caça-palavras temático\, Quizzes e a montagem de um Guarda-roupa Cápsula. Um dos destaques é a interação direta com o público\, convidando os participantes a refletirem sobre o questionamento: “Como você se vê na moda do futuro?”. A iniciativa busca humanizar o debate sobre o movimento e incentivar a reflexão crítica de forma acessível no ambiente acadêmico. A ação é realizada sob responsabilidade de estudantes do Projeto de Extensão do curso superior de Design de Moda e as atividades irão acontecer ao longo do primeiro semestre do ano\, utilizando recursos como papéis coloridos\, canetas e adesivos para promover o engajamento da comunidade.
URL:https://fashionrevolutionbrasil.org/evento/atividades-interativas-fashion-revolution/
LOCATION:SENAI CETIQT\, Avenida Luis Carlos Prestes\, 230\, Barra da Tijuca\, Rio de Janeiro\, RJ\, Rio de Janeiro\, Rio de Janeiro\, 22775055\, Brazil
CATEGORIES:Convidados com perfil étnico-racial diverso,Convidados LGBTQIAPN+
ORGANIZER;CN="SENAI CETIQT":MAILTO:csantos@cetiqt.senai.br
END:VEVENT
BEGIN:VEVENT
DTSTART;TZID=America/Sao_Paulo:20260428T140000
DTEND;TZID=America/Sao_Paulo:20260430T170000
DTSTAMP:20260422T164918
CREATED:20260417T190302Z
LAST-MODIFIED:20260417T190303Z
UID:17697-1777384800-1777568400@fashionrevolutionbrasil.org
SUMMARY:Oficina de Moda Ativismo Modateca
DESCRIPTION:– Descrição:\nA oficina Moda Ativismo propõe um espaço de experimentação criativa e reflexão crítica sobre moda\, sustentabilidade e expressão política. Ao longo de três dias de imersão\, os participantes irão desenvolver um look autoral coletivo a partir do reaproveitamento de tecidos\, explorando técnicas têxteis e incorporando palavras de manifesto como elemento conceitual e estético. A proposta articula prática e pensamento\, estimulando a moda como linguagem de posicionamento social e ambiental\, além de incentivar processos criativos sustentáveis.                                                                                                                                           Carga horária total: 12h sendo 9h presenciais e 3 h on line assíncrona.                                                Com direito a certificação. Oferta de 15 vagas (por ordem de inscrição).\n– Oficineiros:\nMichelly Demézio dos Santos Silva\nKalyne Helena Campos Corrêa de Oliveira\nGabrielle Souza de Queiroz\nIzabele Sousa Barros\n-Apoio:\nMaria Clara de Oliveira Barcelar
URL:https://fashionrevolutionbrasil.org/evento/oficina-de-moda-ativismo-modateca/
LOCATION:Sala da Modateca FCAP/UPE\, FCAP/UPE: Rua Sport Club do Recife\, 252 \, Bloco C\, 4ª andar sala 03 (Modateca)– Benfica\, Recife/PE\, Recife\, Pernambuco\, 50750500\, Brazil
CATEGORIES:Convidados LGBTQIAPN+
ORGANIZER;CN="Izabele Sousa Barros/UPE/MODATECA":MAILTO:izabele.barros@upe.br
END:VEVENT
BEGIN:VEVENT
DTSTART;TZID=America/Sao_Paulo:20260429T090000
DTEND;TZID=America/Sao_Paulo:20260429T220000
DTSTAMP:20260422T164918
CREATED:20260416T170341Z
LAST-MODIFIED:20260416T170342Z
UID:17441-1777453200-1777500000@fashionrevolutionbrasil.org
SUMMARY:Moda que circula
DESCRIPTION:A ação “Moda em Circulação” propõe uma feira de troca de peças do vestuário\, incentivando a reutilização e o consumo consciente por meio da partilha entre os participantes. A proposta promove um espaço de encontro\, colaboração e responsabilidade coletiva no qual cada peça ganha a chance de seguir sua trajetória com outra pessoa. Ao estimular práticas sustentáveis e acessíveis\, a feira reforça a importância de manter a moda em movimento\, reduzindo desperdícios e fortalecendo uma rede mais consciente\, solidária e conectada.
URL:https://fashionrevolutionbrasil.org/evento/moda-que-circula/
LOCATION:Senac Sorocaba\, Rua Coronel Nogueira Padilha\, 2.392\, Vila Hortência\, Sorocaba\, São Paulo.\, Sorocaba\, São Paulo\, 18020605\, Brazil
CATEGORIES:Convidados com perfil étnico-racial diverso,Convidados LGBTQIAPN+,Convidados portadores de alguma deficiência
ORGANIZER;CN="Senac Sorocaba":MAILTO:natalie.mprado@sp.senac.br
END:VEVENT
BEGIN:VEVENT
DTSTART;TZID=America/Sao_Paulo:20260429T093000
DTEND;TZID=America/Sao_Paulo:20260429T111000
DTSTAMP:20260422T164918
CREATED:20260414T210150Z
LAST-MODIFIED:20260414T210151Z
UID:17038-1777455000-1777461000@fashionrevolutionbrasil.org
SUMMARY:Cinedebate “Seu Estilo\, seu Impacto”
DESCRIPTION:Tendo o documentário “Seu estilo\, seu impacto” como ponto de partida para um cinedebate com os alunos da Fatec Itapetininga\, refletimos coletivamente sobre a dualidade da moda como arte e indústria\, diante de seu impacto ambiental — responsável por até 8% da poluição global — e os efeitos do fast fashion na nossa relação com o consumo e a natureza. \nEssa ação convida à reflexão sobre mudanças possíveis no setor\, destacando a importância de “pequenos grandes gestos” e incentivando a construção de uma moda mais justa\, consciente e sustentável.
URL:https://fashionrevolutionbrasil.org/evento/cinedebate-seu-estilo-seu-impacto-2/
LOCATION:Fatec Itapetininga\, Rua João Viêira Camargo\, 104\, Vila Barth\, Itapetininga\, SP\, Itapetininga\, São Paulo\, 18205600\, Brazil
CATEGORIES:Convidados com perfil étnico-racial diverso,Convidados LGBTQIAPN+,Convidados portadores de alguma deficiência
ORGANIZER;CN="Moda de Prop%C3%B3sito":MAILTO:modadepropositobr@gmail.com
END:VEVENT
BEGIN:VEVENT
DTSTART;TZID=America/Sao_Paulo:20260429T103000
DTEND;TZID=America/Sao_Paulo:20260429T113000
DTSTAMP:20260422T164918
CREATED:20260416T170804Z
LAST-MODIFIED:20260416T170805Z
UID:17544-1777458600-1777462200@fashionrevolutionbrasil.org
SUMMARY:Roda de conversa: saúde mental\, trabalho e etarismo na moda
DESCRIPTION:A roda de conversa propõe uma discussão sobre saúde mental no contexto do trabalho na moda\, articulando questões relacionadas a condições de trabalho\, subjetividade e envelhecimento no setor. \nA partir das reflexões suscitadas pelo documentário exibido anteriormente\, o debate aborda o etarismo\, as dinâmicas de exclusão e as possibilidades de construção de trajetórias mais sustentáveis e inclusivas. \nParticipantes: \nSerginho Calado\nSara Carvalho\nAna Paula (estudante de Psicologia – CEUB)
URL:https://fashionrevolutionbrasil.org/evento/roda-de-conversa-saude-mental-trabalho-e-etarismo-na-moda/
LOCATION:CEUB\, SEPN 707/907 - Asa Norte\, Brasília - DF\, 70790-075\, Brasília\, Distrito Federal\, 70790075\, Brazil
CATEGORIES:Convidados com perfil étnico-racial diverso,Convidados LGBTQIAPN+,Convidados portadores de alguma deficiência,Temática anti-racista,Temática LGBTQIAPN+,Temática sobre acessibilidade
ORGANIZER;CN="Rafaella Lacerda":MAILTO:rafaella.c.lacerda@gmail.com
END:VEVENT
BEGIN:VEVENT
DTSTART;TZID=America/Sao_Paulo:20260429T143000
DTEND;TZID=America/Sao_Paulo:20260429T170000
DTSTAMP:20260422T164918
CREATED:20260416T170811Z
LAST-MODIFIED:20260416T170812Z
UID:17546-1777473000-1777482000@fashionrevolutionbrasil.org
SUMMARY:Mini curso: profissionalização no mercado de segunda mão em Brasília
DESCRIPTION:O mini curso propõe uma introdução às práticas profissionais no mercado de segunda mão\, com foco na realidade de Brasília. \nA atividade aborda estratégias de organização\, posicionamento\, curadoria e atuação no setor\, considerando o crescimento dos brechós e iniciativas independentes no contexto local. \nFacilitadoras: \nCarol Rosignoli\nRafaella Lacerda
URL:https://fashionrevolutionbrasil.org/evento/mini-curso-profissionalizacao-no-mercado-de-segunda-mao-em-brasilia/
LOCATION:CEUB\, SEPN 707/907 - Asa Norte\, Brasília - DF\, 70790-075\, Brasília\, Distrito Federal\, 70790075\, Brazil
CATEGORIES:Convidados com perfil étnico-racial diverso,Convidados LGBTQIAPN+,Convidados portadores de alguma deficiência,Temática anti-racista,Temática LGBTQIAPN+,Temática sobre acessibilidade
ORGANIZER;CN="Rafaella Lacerda":MAILTO:rafaella.c.lacerda@gmail.com
END:VEVENT
BEGIN:VEVENT
DTSTART;TZID=America/Sao_Paulo:20260429T190000
DTEND;TZID=America/Sao_Paulo:20260429T220000
DTSTAMP:20260422T164918
CREATED:20260416T210059Z
LAST-MODIFIED:20260416T210100Z
UID:17599-1777489200-1777500000@fashionrevolutionbrasil.org
SUMMARY:Moda & Pesquisa - Trabalhos desenvolvidos pela rede local com foco na moda sustentável
DESCRIPTION:Esse evento vai funcionar como uma mostra curta de trabalhos em formato pitch\, mais dinâmico\, para que a rede local conheça os trabalhos com viés sustentável desenvolvidos por profissionais e estudantes no setor da moda. O objetivo principal é discutir sobre a importância da pesquisa e da ciência para avançar as discussões em relação à moda sustentável e alguns temas que serão discutidos são: microplásticos\, lixo têxtil\, upcycling etc. Além disso\, outros objetivos consistem em incentivar novas pesquisas e trabalhos na área\, fortalecer as discussões já iniciadas\, comparar panoramas e catalogar essas e futuras contribuições em um local de acesso livre para qualquer cidadão.
URL:https://fashionrevolutionbrasil.org/evento/moda-pesquisa-trabalhos-desenvolvidos-pela-rede-local-com-foco-na-moda-sustentavel/
LOCATION:Auditório do CEFET MG\, R. Álvares de Azevedo\, 400 - Bela Vista\, Divinópolis\, Divinópolis\, Minas Gerais\, 35503822\, Brazil
CATEGORIES:Convidados com perfil étnico-racial diverso,Convidados LGBTQIAPN+
ORGANIZER;CN="Mariana Resende Costa":MAILTO:marianaresendecosta@gmail.com
END:VEVENT
BEGIN:VEVENT
DTSTART;TZID=America/Sao_Paulo:20260429T202500
DTEND;TZID=America/Sao_Paulo:20260429T210000
DTSTAMP:20260422T164918
CREATED:20260417T190254Z
LAST-MODIFIED:20260417T190255Z
UID:17693-1777494300-1777496400@fashionrevolutionbrasil.org
SUMMARY:Desfile 60+ Pop Art
DESCRIPTION:O Desfile 60+ integra o projeto UNIP Sustentável: Moda\, Consumo Consciente e Inovação Social e tem como eixo central a conscientização sobre a elaboração de peças de vestuário para corpos diversos\, acessibilidade e diversidade\, a partir do uso responsável de resíduos da indústria têxtil. \nVoltado a pessoas com 60 anos ou mais\, o desfile propõe uma reflexão sobre envelhecimento\, autoestima\, representatividade e inclusão na moda\, rompendo com padrões normativos de corpo\, beleza\, gênero e raça. As peças apresentadas são desenvolvidas pelos estudantes do CST em Design de Moda a partir de sobras têxteis\, retalhos e excedentes de produção\, ressignificando materiais que seriam descartados e inserindo-os em uma lógica de economia circular e moda sustentável. \nDo ponto de vista técnico\, o evento busca demonstrar o potencial criativo e experimental da estamparia aplicada à sustentabilidade\, utilizando serigrafia\, estamparia digital\, sublimação e DTF (Direct to Film) como principais recursos para a criação de superfícies têxteis. Essas técnicas são exploradas em diálogo com a linguagem da Pop Art\, por meio de cores vibrantes\, grafismos e signos da cultura de massa\, reforçando o caráter comunicativo da roupa. \nMais do que uma apresentação estética\, o Desfile 60+ é uma ação extensionista que aproxima universidade e comunidade\, evidenciando a importância de projetar roupas que considerem diferentes corpos\, necessidades de mobilidade\, conforto\, autonomia e acessibilidade\, ao mesmo tempo em que promove a responsabilidade socioambiental no design de moda.
URL:https://fashionrevolutionbrasil.org/evento/desfile-60-pop-art/
LOCATION:Universidade Paulista – UNIP/ Auditório\, Avenida Paulista\, 900\, Bela Vista\, São Paulo\, SP\, São Paulo\, São Paulo\, 01310940\, Brazil
CATEGORIES:Convidados com perfil étnico-racial diverso,Convidados LGBTQIAPN+,Convidados portadores de alguma deficiência,Temática anti-racista,Temática LGBTQIAPN+,Temática sobre acessibilidade
ORGANIZER;CN="Universidade Paulista":MAILTO:haroldo.souza@docente.unip.br
END:VEVENT
END:VCALENDAR