BEGIN:VCALENDAR
VERSION:2.0
PRODID:-//Fashion Revolution Brasil - ECPv6.15.16.1//NONSGML v1.0//EN
CALSCALE:GREGORIAN
METHOD:PUBLISH
X-WR-CALNAME:Fashion Revolution Brasil
X-ORIGINAL-URL:https://fashionrevolutionbrasil.org
X-WR-CALDESC:Eventos para Fashion Revolution Brasil
REFRESH-INTERVAL;VALUE=DURATION:PT1H
X-Robots-Tag:noindex
X-PUBLISHED-TTL:PT1H
BEGIN:VTIMEZONE
TZID:America/Sao_Paulo
BEGIN:STANDARD
TZOFFSETFROM:-0300
TZOFFSETTO:-0300
TZNAME:-03
DTSTART:20250101T000000
END:STANDARD
END:VTIMEZONE
BEGIN:VEVENT
DTSTART;TZID=America/Sao_Paulo:20260424T190000
DTEND;TZID=America/Sao_Paulo:20260524T223000
DTSTAMP:20260422T183625
CREATED:20260417T190332Z
LAST-MODIFIED:20260417T190333Z
UID:17708-1777057200-1779661800@fashionrevolutionbrasil.org
SUMMARY:Cine Debate: O Ponto Firme
DESCRIPTION:O documentário acompanha o projeto Ponto Firme\, que leva o crochê para dentro do sistema prisional\, promovendo capacitação profissional\, geração de renda e transformação social para pessoas privadas de liberdade. A iniciativa evidencia como a moda pode ser ferramenta de inclusão\, dignidade e reintegração\, ao mesmo tempo em que questiona estigmas sociais. \nApós a exibição\, será realizado um debate sobre moda como agente de transformação social.
URL:https://fashionrevolutionbrasil.org/evento/cine-debate-o-ponto-firme-2/
LOCATION:SENAC MARÍLIA\, Rua Paraíba\, 125\, Marília\, São Paulo\, 17509-060\, Brazil
CATEGORIES:Convidados com perfil étnico-racial diverso,Convidados LGBTQIAPN+,Convidados portadores de alguma deficiência
ORGANIZER;CN="Ana Carolina Lopes Cortez":MAILTO:ana.ccortez@sp.senac.br
END:VEVENT
BEGIN:VEVENT
DTSTART;TZID=America/Sao_Paulo:20260427T120000
DTEND;TZID=America/Sao_Paulo:20260630T120000
DTSTAMP:20260422T183625
CREATED:20260415T190239Z
LAST-MODIFIED:20260415T190240Z
UID:17177-1777291200-1782820800@fashionrevolutionbrasil.org
SUMMARY:Atividades Interativas Fashion Revolution
DESCRIPTION:As Atividades Interativas do projeto Fashion Revolution 2026 consistem em uma intervenção lúdica e educativa espalhada pelos andares da faculdade. Com o objetivo de conscientizar estudantes e colaboradores sobre o consumo responsável\, a ação utiliza cavaletes para apresentar dinâmicas como o Mapa de Fabricação de Roupas\, Caça-palavras temático\, Quizzes e a montagem de um Guarda-roupa Cápsula. Um dos destaques é a interação direta com o público\, convidando os participantes a refletirem sobre o questionamento: “Como você se vê na moda do futuro?”. A iniciativa busca humanizar o debate sobre o movimento e incentivar a reflexão crítica de forma acessível no ambiente acadêmico. A ação é realizada sob responsabilidade de estudantes do Projeto de Extensão do curso superior de Design de Moda e as atividades irão acontecer ao longo do primeiro semestre do ano\, utilizando recursos como papéis coloridos\, canetas e adesivos para promover o engajamento da comunidade.
URL:https://fashionrevolutionbrasil.org/evento/atividades-interativas-fashion-revolution/
LOCATION:SENAI CETIQT\, Avenida Luis Carlos Prestes\, 230\, Barra da Tijuca\, Rio de Janeiro\, RJ\, Rio de Janeiro\, Rio de Janeiro\, 22775055\, Brazil
CATEGORIES:Convidados com perfil étnico-racial diverso,Convidados LGBTQIAPN+
ORGANIZER;CN="SENAI CETIQT":MAILTO:csantos@cetiqt.senai.br
END:VEVENT
BEGIN:VEVENT
DTSTART;TZID=America/Sao_Paulo:20260511T083000
DTEND;TZID=America/Sao_Paulo:20260515T213000
DTSTAMP:20260422T183625
CREATED:20260407T190232Z
LAST-MODIFIED:20260407T190233Z
UID:16350-1778488200-1778880600@fashionrevolutionbrasil.org
SUMMARY:Mercado de Troca - UNIFEBE
DESCRIPTION:Considera-se que sustentabilidade no âmbito da moda é fundamental diante dos impactos ambientais gerados pela produção em larga escala e pelo consumo acelerado de vestuário. A adoção de práticas conscientes contribui para a redução de resíduos têxteis e para o uso responsável dos recursos naturais. Nesse contexto\, o Mercado de Troca desempenha um papel relevante ao incentivar a reutilização de peças\, prolongar o ciclo de vida das roupas e fortalecer a economia circular. Além dos benefícios ambientais\, a iniciativa promove integração\, colaboração e senso de comunidade entre os participantes. Assim\, o presente projeto tem como objetivo geral desenvolver um mercado de troca de peças de segunda mão entre colaboradores da IES\, estimulando a sustentabilidade\, o consumo consciente e a interação social no ambiente institucional. A curadoria e organização do Mercado de Troca será realizado pelas(os) estudantes do curso de Design de Moda da UNIFEBE e faz parte de um projeto curricular do curso.
URL:https://fashionrevolutionbrasil.org/evento/mercado-de-troca-unifebe/
LOCATION:UNIFEBE – Centro Universitário da Fundação Educacional de Brusque\, Rua Vendelino Maffezzolli\, 333 - Santa Terezinha\, Brusque\, Brusque\, Santa Catarina\, 88352360\, Brazil
CATEGORIES:Convidados com perfil étnico-racial diverso,Convidados LGBTQIAPN+,Convidados portadores de alguma deficiência
ORGANIZER;CN="UNIFEBE":MAILTO:gabriela.lenzi@unifebe.edu.br
END:VEVENT
BEGIN:VEVENT
DTSTART;TZID=America/Sao_Paulo:20260513T140000
DTEND;TZID=America/Sao_Paulo:20260513T170000
DTSTAMP:20260422T183625
CREATED:20260417T190207Z
LAST-MODIFIED:20260417T190208Z
UID:17675-1778680800-1778691600@fashionrevolutionbrasil.org
SUMMARY:Oficina Seleção Fashion Revolution: Criatividade na Copa
DESCRIPTION:A oficina “Seleção Fashion Revolution: Criatividade na Copa” promove a ressignificação de roupas e acessórios em desuso através de técnicas de customização temática para a Copa de 2026. O objetivo é incentivar o reaproveitamento de materiais e a expressão da identidade individual\, combatendo o descarte têxtil. Durante a atividade\, serão utilizados aviamentos\, pedrarias e enfeites nas cores verde\, amarelo\, azul e branco\, provenientes de uma campanha de arrecadação realizada junto à comunidade acadêmica. Além disso\, os participantes poderão trazer aviamentos\, linhas e retalhos de tecidos nas cores do Brasil\, bem como outros objetos que queiram aproveitar na customização. A atividade será realizada pelos estudantes do Projeto de Extensão do curso superior de Design de Moda. Para participar da oficina\, é necessário que cada participante leve sua própria peça de roupa ou acessório para transformar.
URL:https://fashionrevolutionbrasil.org/evento/oficina-selecao-fashion-revolution-criatividade-na-copa/
LOCATION:SENAI CETIQT\, Avenida Luis Carlos Prestes\, 230\, Barra da Tijuca\, Rio de Janeiro\, RJ\, Rio de Janeiro\, Rio de Janeiro\, 22775055\, Brazil
CATEGORIES:Convidados com perfil étnico-racial diverso,Convidados LGBTQIAPN+
ORGANIZER;CN="SENAI CETIQT":MAILTO:csantos@cetiqt.senai.br
END:VEVENT
BEGIN:VEVENT
DTSTART;TZID=America/Sao_Paulo:20260513T140000
DTEND;TZID=America/Sao_Paulo:20260513T170000
DTSTAMP:20260422T183625
CREATED:20260417T190213Z
LAST-MODIFIED:20260417T190214Z
UID:17677-1778680800-1778691600@fashionrevolutionbrasil.org
SUMMARY:Oficina Tramando a Moda: crochê com malha reaproveitada
DESCRIPTION:A oficina “Tramando a Moda: crochê com malha reaproveitada” foca no aprendizado de técnicas de crochê manual utilizando malha reaproveitada de camisetas e retalhos descartados. O objetivo central é reduzir os danos ambientais através da reutilização de resíduos têxteis\, ensinando os participantes a transformarem materiais em desuso em novos produtos\, como acessórios e objetos utilitários. A atividade promove a economia circular e demonstra que é possível realizar produções de moda de forma acessível\, criativa e sustentável. Ao longo das semanas que antecedem a oficina\, será feita uma arrecadação de roupas e retalhos considerados descarte para que sejam reaproveitados na oficina. A atividade será realizada pelas estudantes do Projeto de Extensão do curso superior de Design de Moda.
URL:https://fashionrevolutionbrasil.org/evento/oficina-tramando-a-moda-croche-com-malha-reaproveitada/
LOCATION:SENAI CETIQT\, Avenida Luis Carlos Prestes\, 230\, Barra da Tijuca\, Rio de Janeiro\, RJ\, Rio de Janeiro\, Rio de Janeiro\, 22775055\, Brazil
CATEGORIES:Convidados com perfil étnico-racial diverso,Convidados LGBTQIAPN+
ORGANIZER;CN="SENAI CETIQT":MAILTO:csantos@cetiqt.senai.br
END:VEVENT
BEGIN:VEVENT
DTSTART;TZID=America/Sao_Paulo:20260513T140000
DTEND;TZID=America/Sao_Paulo:20260513T170000
DTSTAMP:20260422T183625
CREATED:20260417T190220Z
LAST-MODIFIED:20260417T190221Z
UID:17679-1778680800-1778691600@fashionrevolutionbrasil.org
SUMMARY:Oficina Cores da Natureza: tingimento têxtil natural
DESCRIPTION:A oficina “Cores da Natureza: tingimento têxtil natural” promove o aprendizado de técnicas de coloração de tecidos utilizando tinturas derivadas de matérias-primas naturais\, como cúrcuma\, beterraba e casca de cebola. O objetivo central é sensibilizar os participantes sobre a redução do uso de pigmentos artificiais tóxicos e resgatar práticas ancestrais aplicadas à moda contemporânea. Durante a atividade\, peças de roupas ganham novas cores\, incentivando o reaproveitamento e a redução do impacto ambiental. A atividade será realizada pelas estudantes do Projeto de Extensão do curso superior de Design de Moda. A atividade conta com o apoio técnico do Professor Reginaldo Silva. Para participar\, é necessário que cada integrante leve uma peça de roupa clara (com preferência por fibras naturais\, como o algodão) para o processo de tingimento.
URL:https://fashionrevolutionbrasil.org/evento/oficina-cores-da-natureza-tingimento-textil-natural/
LOCATION:SENAI CETIQT\, Avenida Luis Carlos Prestes\, 230\, Barra da Tijuca\, Rio de Janeiro\, RJ\, Rio de Janeiro\, Rio de Janeiro\, 22775055\, Brazil
CATEGORIES:Convidados com perfil étnico-racial diverso,Convidados LGBTQIAPN+
ORGANIZER;CN="SENAI CETIQT":MAILTO:csantos@cetiqt.senai.br
END:VEVENT
BEGIN:VEVENT
DTSTART;TZID=America/Sao_Paulo:20260513T140000
DTEND;TZID=America/Sao_Paulo:20260513T170000
DTSTAMP:20260422T183625
CREATED:20260417T190226Z
LAST-MODIFIED:20260417T190227Z
UID:17681-1778680800-1778691600@fashionrevolutionbrasil.org
SUMMARY:Oficina Criatividade Têxtil: customização com patches
DESCRIPTION:A oficina “Criatividade Têxtil: customização com patches” consiste em uma atividade prática focada na produção de patches a partir do reaproveitamento de retalhos têxteis e roupas antigas. O objetivo é incentivar os participantes a realizarem intervenções criativas em suas próprias peças\, promovendo a ressignificação estética de materiais descartados e estimulando a reflexão sobre o consumo consciente. Durante a ação\, serão ensinadas técnicas manuais de costura e bordado decorativo para a aplicação dos patches nas roupas\, utilizando elementos como botões reaproveitados e sobras de tecido para criar itens únicos. Ao longo das semanas que antecedem a oficina\, será feita uma arrecadação de roupas e retalhos considerados descarte para que sejam reaproveitados na oficina. A atividade será realizada pelas estudantes do Projeto de Extensão do curso superior de Design de Moda. É necessário que cada participante leve uma peça de roupa ou acessório para customização.
URL:https://fashionrevolutionbrasil.org/evento/oficina-criatividade-textil-customizacao-com-patches/
LOCATION:SENAI CETIQT\, Avenida Luis Carlos Prestes\, 230\, Barra da Tijuca\, Rio de Janeiro\, RJ\, Rio de Janeiro\, Rio de Janeiro\, 22775055\, Brazil
CATEGORIES:Convidados com perfil étnico-racial diverso,Convidados LGBTQIAPN+
ORGANIZER;CN="SENAI CETIQT":MAILTO:csantos@cetiqt.senai.br
END:VEVENT
END:VCALENDAR