BEGIN:VCALENDAR
VERSION:2.0
PRODID:-//Fashion Revolution Brasil - ECPv6.15.16.1//NONSGML v1.0//EN
CALSCALE:GREGORIAN
METHOD:PUBLISH
X-WR-CALNAME:Fashion Revolution Brasil
X-ORIGINAL-URL:https://fashionrevolutionbrasil.org
X-WR-CALDESC:Eventos para Fashion Revolution Brasil
REFRESH-INTERVAL;VALUE=DURATION:PT1H
X-Robots-Tag:noindex
X-PUBLISHED-TTL:PT1H
BEGIN:VTIMEZONE
TZID:America/Sao_Paulo
BEGIN:STANDARD
TZOFFSETFROM:-0300
TZOFFSETTO:-0300
TZNAME:-03
DTSTART:20250101T000000
END:STANDARD
END:VTIMEZONE
BEGIN:VEVENT
DTSTART;TZID=America/Sao_Paulo:20260522T090000
DTEND;TZID=America/Sao_Paulo:20260522T100000
DTSTAMP:20260422T001511
CREATED:20260416T170335Z
LAST-MODIFIED:20260416T170336Z
UID:17439-1779440400-1779444000@fashionrevolutionbrasil.org
SUMMARY:A DICOTOMIA ENTRE INOVAÇÃO E GREENWASHING NA INDUSTRIA DA MODA
DESCRIPTION:A PALESTRA TERA COMO TEMA “A DICOTOMIA ENTRE INOVAÇÃO E GREENWASHING NA INDUSTRIA DA MODA” COM O PALESTRANTE\, LEANDRO ESTEVÃO GOMES (MESTRANDO DE TÊXTIL E MODA).
URL:https://fashionrevolutionbrasil.org/evento/a-dicotomia-entre-inovacao-e-greenwashing-na-industria-da-moda/
LOCATION:UNIVERSIDADE TECNOLÓGICA FEDERAL DO PARANÁ\, Rua Marcílio Dias\, 635 - Jardim Paraíso\, Apucarana - PR\, APUCARANA\, Paraná\, 86812460\, Brazil
CATEGORIES:Essa ação não conta com diversidade de gênero ou étnico-racial
ORGANIZER;CN="LARISSA DE OLIVEIRA GABRIEL E LEANDRO ESTEV%C3%83O.":MAILTO:larissagabriel@alunos.utfpr.edu.br
END:VEVENT
BEGIN:VEVENT
DTSTART;TZID=America/Sao_Paulo:20260522T110000
DTEND;TZID=America/Sao_Paulo:20260522T120000
DTSTAMP:20260422T001511
CREATED:20260416T170401Z
LAST-MODIFIED:20260416T170402Z
UID:17450-1779447600-1779451200@fashionrevolutionbrasil.org
SUMMARY:O QUE CONECTA A INDÚSTRIA DA MODA COM O MUNDO JURÍDICO?
DESCRIPTION:UMA PALESTRA COMENTANDO A RELAÇÃO ENTRE OS DOIS “MUNDOS”; MODA E O UNIVERSO JURÍDICO COM KARINA PATALUCH\, EXPECIALISTA EM DIREITO DIGITAL E DIREITO DA MODA
URL:https://fashionrevolutionbrasil.org/evento/o-que-conecta-a-industria-da-moda-com-o-mundo-juridico/
LOCATION:UNIVERSIDADE TECNOLÓGICA FEDERAL DO PARANÁ UTFPR-AP\, Rua Marcílio Dias\, 635 - Jardim Paraíso\, Apucarana\, APUCARANA\, Paraná\, 86812460\, Brazil
CATEGORIES:Essa ação não conta com diversidade de gênero ou étnico-racial
ORGANIZER;CN="LARISSA DE OLIVEIRA GABRIEL E KARINA PATALUCH":MAILTO:larissagabriel@alunos.utfpr.edu.br
END:VEVENT
BEGIN:VEVENT
DTSTART;TZID=America/Sao_Paulo:20260603T120000
DTEND;TZID=America/Sao_Paulo:20260603T130000
DTSTAMP:20260422T001511
CREATED:20260417T190239Z
LAST-MODIFIED:20260417T190240Z
UID:17685-1780488000-1780491600@fashionrevolutionbrasil.org
SUMMARY:Desfile Passarela da Revolução
DESCRIPTION:O desfile “Passarela da Revolução: manifestos da moda” marca o encerramento das atividades da Semana Fashion Revolution 2026-1 da Faculdade SENAI CETIQT. O evento apresenta uma curadoria de looks de brechós realizados pelos estudantes do Projeto de Extensão do 3º período\, promovendo a economia circular e o consumo consciente de peças de segunda mão. Além disso\, a passarela exibe os resultados do Projeto de Extensão do 4º módulo (2025)\, composto por peças desenvolvidas a partir do upcycling de uniformes profissionais descartados e calças jeans reutilizadas. O desfile também abre espaço para as criações e customizações realizadas durante as oficinas da semana\, funcionando como um manifesto visual sobre a valorização do trabalho manual e a transformação de resíduos em moda com propósito. O evento é gratuito e aberto ao público.
URL:https://fashionrevolutionbrasil.org/evento/desfile-passarela-da-revolucao/
LOCATION:SENAI CETIQT\, Avenida Luis Carlos Prestes\, 230\, Barra da Tijuca\, Rio de Janeiro\, RJ\, Rio de Janeiro\, Rio de Janeiro\, 22775055\, Brazil
CATEGORIES:Convidados com perfil étnico-racial diverso,Convidados LGBTQIAPN+
ORGANIZER;CN="SENAI CETIQT":MAILTO:csantos@cetiqt.senai.br
END:VEVENT
END:VCALENDAR